BEGIN:VCALENDAR
VERSION:2.0
PRODID:-//Municipalité de Lacolle - ECPv6.15.14//NONSGML v1.0//EN
CALSCALE:GREGORIAN
METHOD:PUBLISH
X-WR-CALNAME:Municipalité de Lacolle
X-ORIGINAL-URL:https://lacolle.com
X-WR-CALDESC:Évènements pour Municipalité de Lacolle
REFRESH-INTERVAL;VALUE=DURATION:PT1H
X-Robots-Tag:noindex
X-PUBLISHED-TTL:PT1H
BEGIN:VTIMEZONE
TZID:America/Montreal
BEGIN:DAYLIGHT
TZOFFSETFROM:-0500
TZOFFSETTO:-0400
TZNAME:EDT
DTSTART:20250309T070000
END:DAYLIGHT
BEGIN:STANDARD
TZOFFSETFROM:-0400
TZOFFSETTO:-0500
TZNAME:EST
DTSTART:20251102T060000
END:STANDARD
BEGIN:DAYLIGHT
TZOFFSETFROM:-0500
TZOFFSETTO:-0400
TZNAME:EDT
DTSTART:20260308T070000
END:DAYLIGHT
BEGIN:STANDARD
TZOFFSETFROM:-0400
TZOFFSETTO:-0500
TZNAME:EST
DTSTART:20261101T060000
END:STANDARD
BEGIN:DAYLIGHT
TZOFFSETFROM:-0500
TZOFFSETTO:-0400
TZNAME:EDT
DTSTART:20270314T070000
END:DAYLIGHT
BEGIN:STANDARD
TZOFFSETFROM:-0400
TZOFFSETTO:-0500
TZNAME:EST
DTSTART:20271107T060000
END:STANDARD
END:VTIMEZONE
BEGIN:VEVENT
DTSTART;TZID=America/Montreal:20260428T070000
DTEND;TZID=America/Montreal:20260428T170000
DTSTAMP:20260423T055413
CREATED:20260202T182824Z
LAST-MODIFIED:20260202T183139Z
UID:10000510-1777359600-1777395600@lacolle.com
SUMMARY:Collecte - Déchets 2026
DESCRIPTION:
URL:https://lacolle.com/evenement/collecte-dechets-2/2026-04-28/
CATEGORIES:Collectes Haut-Richelieu
END:VEVENT
BEGIN:VEVENT
DTSTART;TZID=America/Montreal:20260512T070000
DTEND;TZID=America/Montreal:20260512T170000
DTSTAMP:20260423T055413
CREATED:20260202T182824Z
LAST-MODIFIED:20260202T183139Z
UID:10000511-1778569200-1778605200@lacolle.com
SUMMARY:Collecte - Déchets 2026
DESCRIPTION:
URL:https://lacolle.com/evenement/collecte-dechets-2/2026-05-12/
CATEGORIES:Collectes Haut-Richelieu
END:VEVENT
BEGIN:VEVENT
DTSTART;TZID=America/Montreal:20260512T080000
DTEND;TZID=America/Montreal:20260512T170000
DTSTAMP:20260423T055413
CREATED:20260202T183451Z
LAST-MODIFIED:20260202T183957Z
UID:10000557-1778572800-1778605200@lacolle.com
SUMMARY:Collecte - Emcombrants 2026
DESCRIPTION:
URL:https://lacolle.com/evenement/collecte-dechets-3/2026-05-12/
CATEGORIES:Collectes Haut-Richelieu
END:VEVENT
BEGIN:VEVENT
DTSTART;TZID=America/Montreal:20260526T070000
DTEND;TZID=America/Montreal:20260526T170000
DTSTAMP:20260423T055413
CREATED:20260202T182824Z
LAST-MODIFIED:20260202T183139Z
UID:10000512-1779778800-1779814800@lacolle.com
SUMMARY:Collecte - Déchets 2026
DESCRIPTION:
URL:https://lacolle.com/evenement/collecte-dechets-2/2026-05-26/
CATEGORIES:Collectes Haut-Richelieu
END:VEVENT
BEGIN:VEVENT
DTSTART;TZID=America/Montreal:20260609T070000
DTEND;TZID=America/Montreal:20260609T170000
DTSTAMP:20260423T055413
CREATED:20260202T182824Z
LAST-MODIFIED:20260202T183139Z
UID:10000513-1780988400-1781024400@lacolle.com
SUMMARY:Collecte - Déchets 2026
DESCRIPTION:
URL:https://lacolle.com/evenement/collecte-dechets-2/2026-06-09/
CATEGORIES:Collectes Haut-Richelieu
END:VEVENT
BEGIN:VEVENT
DTSTART;TZID=America/Montreal:20260609T080000
DTEND;TZID=America/Montreal:20260609T170000
DTSTAMP:20260423T055413
CREATED:20260202T183451Z
LAST-MODIFIED:20260202T183957Z
UID:10000558-1780992000-1781024400@lacolle.com
SUMMARY:Collecte - Emcombrants 2026
DESCRIPTION:
URL:https://lacolle.com/evenement/collecte-dechets-3/2026-06-09/
CATEGORIES:Collectes Haut-Richelieu
END:VEVENT
BEGIN:VEVENT
DTSTART;TZID=America/Montreal:20260623T070000
DTEND;TZID=America/Montreal:20260623T170000
DTSTAMP:20260423T055413
CREATED:20260202T182824Z
LAST-MODIFIED:20260202T183139Z
UID:10000514-1782198000-1782234000@lacolle.com
SUMMARY:Collecte - Déchets 2026
DESCRIPTION:
URL:https://lacolle.com/evenement/collecte-dechets-2/2026-06-23/
CATEGORIES:Collectes Haut-Richelieu
END:VEVENT
BEGIN:VEVENT
DTSTART;TZID=America/Montreal:20260707T070000
DTEND;TZID=America/Montreal:20260707T170000
DTSTAMP:20260423T055413
CREATED:20260202T182824Z
LAST-MODIFIED:20260202T183139Z
UID:10000515-1783407600-1783443600@lacolle.com
SUMMARY:Collecte - Déchets 2026
DESCRIPTION:
URL:https://lacolle.com/evenement/collecte-dechets-2/2026-07-07/
CATEGORIES:Collectes Haut-Richelieu
END:VEVENT
BEGIN:VEVENT
DTSTART;TZID=America/Montreal:20260707T080000
DTEND;TZID=America/Montreal:20260707T170000
DTSTAMP:20260423T055413
CREATED:20260202T183451Z
LAST-MODIFIED:20260202T183957Z
UID:10000559-1783411200-1783443600@lacolle.com
SUMMARY:Collecte - Emcombrants 2026
DESCRIPTION:
URL:https://lacolle.com/evenement/collecte-dechets-3/2026-07-07/
CATEGORIES:Collectes Haut-Richelieu
END:VEVENT
BEGIN:VEVENT
DTSTART;TZID=America/Montreal:20260721T070000
DTEND;TZID=America/Montreal:20260721T170000
DTSTAMP:20260423T055413
CREATED:20260202T182824Z
LAST-MODIFIED:20260202T183139Z
UID:10000516-1784617200-1784653200@lacolle.com
SUMMARY:Collecte - Déchets 2026
DESCRIPTION:
URL:https://lacolle.com/evenement/collecte-dechets-2/2026-07-21/
CATEGORIES:Collectes Haut-Richelieu
END:VEVENT
BEGIN:VEVENT
DTSTART;TZID=America/Montreal:20260804T070000
DTEND;TZID=America/Montreal:20260804T170000
DTSTAMP:20260423T055413
CREATED:20260202T182824Z
LAST-MODIFIED:20260202T183139Z
UID:10000517-1785826800-1785862800@lacolle.com
SUMMARY:Collecte - Déchets 2026
DESCRIPTION:
URL:https://lacolle.com/evenement/collecte-dechets-2/2026-08-04/
CATEGORIES:Collectes Haut-Richelieu
END:VEVENT
BEGIN:VEVENT
DTSTART;TZID=America/Montreal:20260804T080000
DTEND;TZID=America/Montreal:20260804T170000
DTSTAMP:20260423T055413
CREATED:20260202T183451Z
LAST-MODIFIED:20260202T183957Z
UID:10000560-1785830400-1785862800@lacolle.com
SUMMARY:Collecte - Emcombrants 2026
DESCRIPTION:
URL:https://lacolle.com/evenement/collecte-dechets-3/2026-08-04/
CATEGORIES:Collectes Haut-Richelieu
END:VEVENT
BEGIN:VEVENT
DTSTART;TZID=America/Montreal:20260818T070000
DTEND;TZID=America/Montreal:20260818T170000
DTSTAMP:20260423T055413
CREATED:20260202T182824Z
LAST-MODIFIED:20260202T183139Z
UID:10000518-1787036400-1787072400@lacolle.com
SUMMARY:Collecte - Déchets 2026
DESCRIPTION:
URL:https://lacolle.com/evenement/collecte-dechets-2/2026-08-18/
CATEGORIES:Collectes Haut-Richelieu
END:VEVENT
BEGIN:VEVENT
DTSTART;TZID=America/Montreal:20260901T070000
DTEND;TZID=America/Montreal:20260901T170000
DTSTAMP:20260423T055413
CREATED:20260202T182824Z
LAST-MODIFIED:20260202T183139Z
UID:10000519-1788246000-1788282000@lacolle.com
SUMMARY:Collecte - Déchets 2026
DESCRIPTION:
URL:https://lacolle.com/evenement/collecte-dechets-2/2026-09-01/
CATEGORIES:Collectes Haut-Richelieu
END:VEVENT
BEGIN:VEVENT
DTSTART;TZID=America/Montreal:20260901T080000
DTEND;TZID=America/Montreal:20260901T170000
DTSTAMP:20260423T055413
CREATED:20260202T183451Z
LAST-MODIFIED:20260202T183957Z
UID:10000561-1788249600-1788282000@lacolle.com
SUMMARY:Collecte - Emcombrants 2026
DESCRIPTION:
URL:https://lacolle.com/evenement/collecte-dechets-3/2026-09-01/
CATEGORIES:Collectes Haut-Richelieu
END:VEVENT
BEGIN:VEVENT
DTSTART;TZID=America/Montreal:20260915T070000
DTEND;TZID=America/Montreal:20260915T170000
DTSTAMP:20260423T055413
CREATED:20260202T182824Z
LAST-MODIFIED:20260202T183139Z
UID:10000520-1789455600-1789491600@lacolle.com
SUMMARY:Collecte - Déchets 2026
DESCRIPTION:
URL:https://lacolle.com/evenement/collecte-dechets-2/2026-09-15/
CATEGORIES:Collectes Haut-Richelieu
END:VEVENT
BEGIN:VEVENT
DTSTART;TZID=America/Montreal:20260929T070000
DTEND;TZID=America/Montreal:20260929T170000
DTSTAMP:20260423T055413
CREATED:20260202T182824Z
LAST-MODIFIED:20260202T183139Z
UID:10000521-1790665200-1790701200@lacolle.com
SUMMARY:Collecte - Déchets 2026
DESCRIPTION:
URL:https://lacolle.com/evenement/collecte-dechets-2/2026-09-29/
CATEGORIES:Collectes Haut-Richelieu
END:VEVENT
BEGIN:VEVENT
DTSTART;TZID=America/Montreal:20261013T070000
DTEND;TZID=America/Montreal:20261013T170000
DTSTAMP:20260423T055413
CREATED:20260202T182824Z
LAST-MODIFIED:20260202T183139Z
UID:10000522-1791874800-1791910800@lacolle.com
SUMMARY:Collecte - Déchets 2026
DESCRIPTION:
URL:https://lacolle.com/evenement/collecte-dechets-2/2026-10-13/
CATEGORIES:Collectes Haut-Richelieu
END:VEVENT
BEGIN:VEVENT
DTSTART;TZID=America/Montreal:20261013T080000
DTEND;TZID=America/Montreal:20261013T170000
DTSTAMP:20260423T055413
CREATED:20260202T183451Z
LAST-MODIFIED:20260202T183957Z
UID:10000562-1791878400-1791910800@lacolle.com
SUMMARY:Collecte - Emcombrants 2026
DESCRIPTION:
URL:https://lacolle.com/evenement/collecte-dechets-3/2026-10-13/
CATEGORIES:Collectes Haut-Richelieu
END:VEVENT
BEGIN:VEVENT
DTSTART;TZID=America/Montreal:20261027T070000
DTEND;TZID=America/Montreal:20261027T170000
DTSTAMP:20260423T055413
CREATED:20260202T182824Z
LAST-MODIFIED:20260202T183139Z
UID:10000523-1793084400-1793120400@lacolle.com
SUMMARY:Collecte - Déchets 2026
DESCRIPTION:
URL:https://lacolle.com/evenement/collecte-dechets-2/2026-10-27/
CATEGORIES:Collectes Haut-Richelieu
END:VEVENT
BEGIN:VEVENT
DTSTART;TZID=America/Montreal:20261110T070000
DTEND;TZID=America/Montreal:20261110T170000
DTSTAMP:20260423T055413
CREATED:20260202T182824Z
LAST-MODIFIED:20260202T183139Z
UID:10000524-1794294000-1794330000@lacolle.com
SUMMARY:Collecte - Déchets 2026
DESCRIPTION:
URL:https://lacolle.com/evenement/collecte-dechets-2/2026-11-10/
CATEGORIES:Collectes Haut-Richelieu
END:VEVENT
BEGIN:VEVENT
DTSTART;TZID=America/Montreal:20261110T080000
DTEND;TZID=America/Montreal:20261110T170000
DTSTAMP:20260423T055413
CREATED:20260202T183451Z
LAST-MODIFIED:20260202T183957Z
UID:10000563-1794297600-1794330000@lacolle.com
SUMMARY:Collecte - Emcombrants 2026
DESCRIPTION:
URL:https://lacolle.com/evenement/collecte-dechets-3/2026-11-10/
CATEGORIES:Collectes Haut-Richelieu
END:VEVENT
BEGIN:VEVENT
DTSTART;TZID=America/Montreal:20261124T070000
DTEND;TZID=America/Montreal:20261124T170000
DTSTAMP:20260423T055413
CREATED:20260202T182824Z
LAST-MODIFIED:20260202T183139Z
UID:10000525-1795503600-1795539600@lacolle.com
SUMMARY:Collecte - Déchets 2026
DESCRIPTION:
URL:https://lacolle.com/evenement/collecte-dechets-2/2026-11-24/
CATEGORIES:Collectes Haut-Richelieu
END:VEVENT
BEGIN:VEVENT
DTSTART;TZID=America/Montreal:20261208T070000
DTEND;TZID=America/Montreal:20261208T170000
DTSTAMP:20260423T055413
CREATED:20260202T182824Z
LAST-MODIFIED:20260202T183139Z
UID:10000526-1796713200-1796749200@lacolle.com
SUMMARY:Collecte - Déchets 2026
DESCRIPTION:
URL:https://lacolle.com/evenement/collecte-dechets-2/2026-12-08/
CATEGORIES:Collectes Haut-Richelieu
END:VEVENT
BEGIN:VEVENT
DTSTART;TZID=America/Montreal:20261208T080000
DTEND;TZID=America/Montreal:20261208T170000
DTSTAMP:20260423T055413
CREATED:20260202T183451Z
LAST-MODIFIED:20260202T183957Z
UID:10000564-1796716800-1796749200@lacolle.com
SUMMARY:Collecte - Emcombrants 2026
DESCRIPTION:
URL:https://lacolle.com/evenement/collecte-dechets-3/2026-12-08/
CATEGORIES:Collectes Haut-Richelieu
END:VEVENT
BEGIN:VEVENT
DTSTART;TZID=America/Montreal:20261222T070000
DTEND;TZID=America/Montreal:20261222T170000
DTSTAMP:20260423T055413
CREATED:20260202T182824Z
LAST-MODIFIED:20260202T183139Z
UID:10000527-1797922800-1797958800@lacolle.com
SUMMARY:Collecte - Déchets 2026
DESCRIPTION:
URL:https://lacolle.com/evenement/collecte-dechets-2/2026-12-22/
CATEGORIES:Collectes Haut-Richelieu
END:VEVENT
END:VCALENDAR